BEGIN:VCALENDAR
VERSION:2.0
PRODID:-//wp-events-plugin.com//7.2.3.1//EN
BEGIN:VEVENT
UID:46@christlich-juedische-ge.de
DTSTART;TZID=Europe/Berlin:20240904T170000
DTEND;TZID=Europe/Berlin:20240904T170000
DTSTAMP:20240813T085421Z
URL:https://christlich-juedische-ge.de/events/synagogenfuehrung-3/
SUMMARY:Synagogenführung
DESCRIPTION:Synagogenführung\nLeitung:\nUlrich Fehling\, Vorsitzender der 
 GCJZ Gelsenkirchen\nDie 2007 eröffnete neue Synagoge ist das Zentrum des 
 jüdischen Lebens in Gelsenkirchen - ein Ort des Gebets\, der Versammlung\
 , des Lernens und der intensiven Begegnung. Die Führung ermöglicht nicht
  nur die Räumlichkeiten kennen zu lernen\, sondern vermittelt auch einen 
 Einblick in das Gemeindeleben sowie in die Geschichte des Judentums in Gel
 senkirchen.\n\nThema dieser Führung sind die hohen Feiertage\, das Neujah
 rsfest Rosch Haschana und der Versöhnungstag Jom Kippur.\nUm Anmeldung wi
 rd gebeten !\nEine Veranstaltung der Stadt Gelsenkirchen\, der Jüdischen 
 Gemeinde Gelsenkirchen und der\nGesellschaft für Christlich-Jüdische Zus
 ammenarbeit Gelsenkirchen\n&nbsp\;\n\n&nbsp\;
CATEGORIES:Führung
LOCATION:Neue Synagoge Gelsenkirchen\, Georgstraße 2\, Gelsenkirchen\, 458
 79 \, Deutschland
X-APPLE-STRUCTURED-LOCATION;VALUE=URI;X-ADDRESS=Georgstraße 2\, Gelsenkirc
 hen\, 45879 \, Deutschland;X-APPLE-RADIUS=100;X-TITLE=Neue Synagoge Gelsen
 kirchen:geo:0,0
END:VEVENT
BEGIN:VTIMEZONE
TZID:Europe/Berlin
X-LIC-LOCATION:Europe/Berlin
BEGIN:DAYLIGHT
DTSTART:20240331T030000
TZOFFSETFROM:+0100
TZOFFSETTO:+0200
TZNAME:CEST
END:DAYLIGHT
END:VTIMEZONE
END:VCALENDAR