BEGIN:VCALENDAR
VERSION:2.0
PRODID:-//wp-events-plugin.com//7.2.3.1//EN
BEGIN:VEVENT
UID:73@christlich-juedische-ge.de
DTSTART;TZID=Europe/Berlin:20250907T110000
DTEND;TZID=Europe/Berlin:20250907T110000
DTSTAMP:20250731T092625Z
URL:https://christlich-juedische-ge.de/events/sachor-gedenke-2/
SUMMARY:Sachor - Gedenke
DESCRIPTION:Sachor - Gedenke !\nGedenken an die getöteten jüdischen Zwang
 sarbeiterinnen auf dem Friedhof in Gelsenkirchen-Horst-Süd\nNur wenige 10
 0 Meter vom Mahnmal entfernt starben am 11.09.1944\, also vor 80 Jahren\, 
 150 jüdische Zwangsarbeiterin­nen durch einen Bombenangriff auf die Gels
 enberg Benzin AG. Sie gehörten zu etwa 2000 jüdischen Frauen und Mädche
 n aus Ungarn\, die dort und in Essen unter schrecklichen Umständen Zwangs
 arbeit leisten mussten. Sie wurden noch 1944\, also als die deutsche Niede
 rlage schon feststand\, aus ihrer Heimat ver­schleppt.\n\nWir dürfen uns
 ere jüdischen Schwestern niemals vergessen und schließen sie für alle Z
 eiten in unsere Gebete mit ein. Und wir gedenken auch der mutigen Helfer u
 nd Helferinnen von damals\, Chefarzt Dr. Rudolf Bertram\, dem Pfleger Fran
 z Schimion und den zahlreichen anderen\, die die beim Angriff Verletzten i
 n Krankenhäusern in Gelsenkirchen-Horst\, Gelsen­kirchen-Rotthausen und 
 Bottrop behandelten und versteckten und wenigstens einige von ihnen retten
  konnten. Sie waren da­mals ein Licht in der Dunkelheit für die armen Fr
 auen.
CATEGORIES:Gedenken
LOCATION:Mahnmal für die jüdischen Zwangsarbeiterinnen auf dem Friedhof i
 n Gelsenkirchen-Horst-Süd\, Am Schleusengraben 11\, Gelsenkirchen-Horst\,
  45899\, Deutschland
X-APPLE-STRUCTURED-LOCATION;VALUE=URI;X-ADDRESS=Am Schleusengraben 11\, Gel
 senkirchen-Horst\, 45899\, Deutschland;X-APPLE-RADIUS=100;X-TITLE=Mahnmal 
 für die jüdischen Zwangsarbeiterinnen auf dem Friedhof in Gelsenkirchen-
 Horst-Süd:geo:0,0
END:VEVENT
BEGIN:VTIMEZONE
TZID:Europe/Berlin
X-LIC-LOCATION:Europe/Berlin
BEGIN:DAYLIGHT
DTSTART:20250330T030000
TZOFFSETFROM:+0100
TZOFFSETTO:+0200
TZNAME:CEST
END:DAYLIGHT
END:VTIMEZONE
END:VCALENDAR