BEGIN:VCALENDAR
VERSION:2.0
PRODID:-//wp-events-plugin.com//7.2.3.1//EN
BEGIN:VEVENT
UID:22@christlich-juedische-ge.de
DTSTART;TZID=Europe/Berlin:20230920T180000
DTEND;TZID=Europe/Berlin:20230920T180000
DTSTAMP:20230907T072538Z
URL:https://christlich-juedische-ge.de/events/neujahrskonzert-zu-beginn-de
 s-neuen-juedischen-jahres-5784/
SUMMARY:Neujahrskonzert zu Beginn des Neuen Jüdischen Jahres 5784
DESCRIPTION:Neujahrskonzert zu Beginn des Neuen Jüdischen Jahres 5784\nDas
  Programm der Eheleute Galina und Efim Benevich aus Israel verspricht eine
  Reise durch die Welt der Musik mit bekannten und oft übersehenen Meister
 werken. Es umfasst Stücke aus dem Barock\, deutsches Liedgut\, Opern- und
  Operettenhits\, israelische Lieder\, jüdische Melodien\, russische Roman
 zen und mehr. Galina Benevich wird mit ihrer bezaubernden Stimme die Herze
 n der Zuhörer erobern. Ebenso Efim Benevich\, der mit seiner Trompete die
  Klänge der Musik verstärken wird.\n\nDieses außergewöhnliche Musikere
 ignis markiert den Beginn eines neuen Jahres und verspricht eine unvergess
 liche musikalische Reise durch die Welt der Klänge.\nKosten: 5\,00 Euro/e
 rm. 3\,00 Euro
LOCATION:Neue Synagoge Gelsenkirchen\, Georgstraße 2\, Gelsenkirchen\, 458
 79 \, Deutschland
X-APPLE-STRUCTURED-LOCATION;VALUE=URI;X-ADDRESS=Georgstraße 2\, Gelsenkirc
 hen\, 45879 \, Deutschland;X-APPLE-RADIUS=100;X-TITLE=Neue Synagoge Gelsen
 kirchen:geo:0,0
END:VEVENT
BEGIN:VTIMEZONE
TZID:Europe/Berlin
X-LIC-LOCATION:Europe/Berlin
BEGIN:DAYLIGHT
DTSTART:20230326T030000
TZOFFSETFROM:+0100
TZOFFSETTO:+0200
TZNAME:CEST
END:DAYLIGHT
END:VTIMEZONE
END:VCALENDAR