BEGIN:VCALENDAR
VERSION:2.0
PRODID:-//wp-events-plugin.com//7.2.3.1//EN
BEGIN:VEVENT
UID:56@christlich-juedische-ge.de
DTSTART;TZID=Europe/Berlin:20241120T180000
DTEND;TZID=Europe/Berlin:20241120T180000
DTSTAMP:20241010T083632Z
URL:https://christlich-juedische-ge.de/events/musik-juedischer-kuenstler-i
 n-der-weimarer-zeit-mit-soeren-thies/
SUMMARY:Musik jüdischer Künstler in der Weimarer Zeit mit Sören Thies
DESCRIPTION:"Liebling\, mein Herz lässt Dich grüßen..." -\nMusik jüdisc
 her Künstler in der Weimarer Zeit\nmit Sören Thies\nIm Frühjahr 1933 sa
 h sich eine ganze Generation jüdisch deutscher Künstler – Musiker\, Sc
 hauspieler\, Kabarettisten\, Filmemacher und Schriftsteller – plötzlich
  mit Berufsverbot\, Ausgrenzung und Verfolgung konfrontiert. Von einem Tag
  auf den anderen verloren viele dieser Menschen ihren guten Ruf\, ihr Publ
 ikum\, ihre Heimat und schließlich oft sogar ihr Leben.\n„Liebling\, me
 in Herz lässt Dich grüßen...“ möchte an ehemals berühmte Namen erin
 nern\, die heute fast völlig vergessen sind. Unvergessliche Tonfilmschlag
 er von Werner Richard Heymann\, Hans May und Friedrich Hollaender treffen 
 auf brillante Kabarett-Songs von Curt Bry und Willy Rosen. Dem weltberühm
 ten Tenor Joseph Schmidt wird ebenso gedacht wie der unvergleichlichen Sch
 auspielerin Dora Gerson.\n\nSøren Thies\, 1969 in Hamburg geboren\, besch
 loss nach dem Studium der Völkerkunde\, Musikwissenschaft und Geographie\
 , die Musik zum Hauptberuf zu machen. Seit über 30 Jahren ist er als Musi
 ker unterwegs und brilliert vor allem mit Akkordeon und Stimme. Insbesonde
 re seine Begeisterung für die Kultur der osteuropäischen Juden bestimmen
  sein künstlerisches Schaffen. Die jüdischen Künstler der Weimarer Zeit
  sind ein weiterer Schwerpunkt seiner Arbeit.\n\nWichtig ist ihm nicht nur
 \, mitreißende und bewegende musikalische Erlebnisse zu schaffen\, sonder
 n auch durch Hintergrundinformationen und berührende Geschichten ein tief
 eres Verständnis der Lieder und Stücke zu ermöglichen.\n\nEintritt: 8\,
 00 Euro (5\,00 Euro erm.)\n\nUm Anmeldung wird gebeten unter 0209 70 25 22
  20 (auch AB)\noder christlich-juedische-ge@freenet.de\n\n&nbsp\;\nEine Ve
 ranstaltung der Jüdischen Gemeinde Gelsenkirchen und\nder Gesellschaft f
 ür Christlich-Jüdische Zusammenarbeit Gelsenkirchen
CATEGORIES:Konzert
LOCATION:Neue Synagoge Gelsenkirchen\, Georgstraße 2\, Gelsenkirchen\, 458
 79 \, Deutschland
X-APPLE-STRUCTURED-LOCATION;VALUE=URI;X-ADDRESS=Georgstraße 2\, Gelsenkirc
 hen\, 45879 \, Deutschland;X-APPLE-RADIUS=100;X-TITLE=Neue Synagoge Gelsen
 kirchen:geo:0,0
END:VEVENT
BEGIN:VTIMEZONE
TZID:Europe/Berlin
X-LIC-LOCATION:Europe/Berlin
BEGIN:STANDARD
DTSTART:20241027T020000
TZOFFSETFROM:+0200
TZOFFSETTO:+0100
TZNAME:CET
END:STANDARD
END:VTIMEZONE
END:VCALENDAR