BEGIN:VCALENDAR
VERSION:2.0
PRODID:-//wp-events-plugin.com//7.2.3.1//EN
BEGIN:VEVENT
UID:63@christlich-juedische-ge.de
DTSTART;TZID=Europe/Berlin:20250319T183000
DTEND;TZID=Europe/Berlin:20250319T183000
DTSTAMP:20250218T091204Z
URL:https://christlich-juedische-ge.de/events/mitgliederversammlung-und-vo
 rtrag-die-schattenseite-des-christentums/
SUMMARY:Mitgliederversammlung und Vortrag "Die Schattenseite des Christentu
 ms"
DESCRIPTION:Mitgliederversammlung\nanschließend Vortrag "Die Schattenseite
  des Christentums"\nLeitung:\nAndreas Pangritz\n\nZur Mitgliederversammlun
 g laden wir unsere Mitglieder und alle weiteren Interessierten herzlich ei
 n.\n\nAnschließend an die Mitgliederversammlung wird um 20.00 Uhr Andreas
  Pangritz\, em. Professor für Systematische Theologie (Ev.) an der Univer
 sität Bonn\, über Theologie und Antisemitismus sprechen.\n\nDass Antisem
 itismus „Sünde gegen den Heiligen Geist“ sei\, hat Karl Barth 1938 au
 s Anlass der Novemberpogrome formuliert\, als die Synagogen in Deutschland
  in Brand gesteckt wurden. Anders als damals gilt es heute als Konsens\, d
 ass Antisemitismus nicht nur aus menschenrechtlichen\, sondern auch aus th
 eologischen Gründen zu verurteilen ist. Darüber wird aber zuweilen verge
 ssen\, dass der Antisemitismus Wurzeln auch in christlich-theologischer Tr
 adition hat. Pangritz geht den verwickelten Zusammenhängen zwischen Theol
 ogie und Antisemitismus an ausgewählten Beispielen nach\, von der sog. 
 „Adversus Iudaeos“-Literatur der kirchlichen Tradition über das Verh
 ältnis der Reformation zum Judentum bis zur Theologie der „Deutschen Ch
 risten“ und deren Nachwirkungen.\n\nDer Eintritt ist frei/Um Anmeldung w
 ird gebeten unter 0209 70 25 22 20 (auch AB)\noder christlich-juedische-ge
 @freenet.de
CATEGORIES:Mitgliederversammlung mit Vortrag
LOCATION:Kurt-Neuwald-Saal in der Neuen Synagoge Gelsenkirchen\, Georgstra
 ße 2\, 45879 Gelsenkirchen\, Deutschland
X-APPLE-STRUCTURED-LOCATION;VALUE=URI;X-ADDRESS=Georgstraße 2\, 45879 Gels
 enkirchen\, Deutschland;X-APPLE-RADIUS=100;X-TITLE=Kurt-Neuwald-Saal in de
 r Neuen Synagoge Gelsenkirchen:geo:0,0
END:VEVENT
BEGIN:VTIMEZONE
TZID:Europe/Berlin
X-LIC-LOCATION:Europe/Berlin
BEGIN:STANDARD
DTSTART:20241027T020000
TZOFFSETFROM:+0200
TZOFFSETTO:+0100
TZNAME:CET
END:STANDARD
END:VTIMEZONE
END:VCALENDAR