BEGIN:VCALENDAR
VERSION:2.0
PRODID:-//wp-events-plugin.com//7.2.3.1//EN
BEGIN:VEVENT
UID:3@christlich-juedische-ge.de
DTSTART;TZID=Europe/Berlin:20230330T180000
DTEND;TZID=Europe/Berlin:20230330T180000
DTSTAMP:20230124T101553Z
URL:https://christlich-juedische-ge.de/events/keine-religion-ist-eine-inse
 l-ueber-verbindendes-nachdenken-mit-abraham-j-heschel-und-susannah-heschel
 /
SUMMARY:Keine Religion ist eine Insel. Über Verbindendes nachdenken mit Ab
 raham J. Heschel und Susannah Heschel
DESCRIPTION:Keine Religion ist eine Insel\nÜber Verbindendes nachdenken mi
 t Abraham J. Heschel und Susannah Heschel\nAbraham J. Heschel (1907 Warsch
 au – 1972 New York) war ein bedeutender Rabbiner und Gelehrter. Seine j
 üdischen Überzeugungen führten zu einem Engagement in der amerikanische
 n Bürgerrechtsbewegung an der Seite des Martin Luther Kings. Als Vertrete
 r des Judentums reiste er zum Vatikanischen Konzil und beeinflusste die Er
 klärung zum katholisch-jüdischen Verhältnis wesentlich mit.\n\nSeine To
 chter Susannah Heschel ist eine engagierte Feministin. Als Wissenschaftler
 in untersuchte sie zuletzt den Beitrag jüdischer Gelehrter für die Islam
 wissenschaft im 19. Jahrhundert. Für ihr Engagement im interreligiösen D
 ialog erhielt sie 2021 in Luzern einen Ehrendoktor.\n\nVon beiden geht vie
 l Inspirierendes aus\, um Vorurteile zu überwinden und das Verbindende vo
 n Judentum\, Christentum und Islam zu stärken. Denn keine Religion ist ei
 ne Insel …\n\n\n\nVortrag: Antje Röckemann\, Pfarrerin\, Leiterin des R
 eferates für Gesellschaftliche Verantwortung des Ev. Kirchenkreises Gelse
 nkirchen-Wattenscheid\nMusik: Aleksandar Filić\, Konzertpianist\, Düssel
 dorf\n\n\n\nKooperationspartner:\n\nReferat für Gesellschaftliche Verantw
 ortung des Ev. Kirchenkreises Gelsenkirchen-Wattenscheid\, Jüdische Gemei
 nde Gelsenkirchen\nim Rahmen der "Internationalen Wochen gegen Rassismus 2
 023"\n\n\n\nAnmerkung:\nBarrierefrei und behindertengerecht
CATEGORIES:Vortrag,Vortrag mit Musik
LOCATION:Neue Synagoge Gelsenkirchen\, Georgstraße 2\, Gelsenkirchen\, 458
 79 \, Deutschland
X-APPLE-STRUCTURED-LOCATION;VALUE=URI;X-ADDRESS=Georgstraße 2\, Gelsenkirc
 hen\, 45879 \, Deutschland;X-APPLE-RADIUS=100;X-TITLE=Neue Synagoge Gelsen
 kirchen:geo:0,0
END:VEVENT
BEGIN:VTIMEZONE
TZID:Europe/Berlin
X-LIC-LOCATION:Europe/Berlin
BEGIN:DAYLIGHT
DTSTART:20230326T030000
TZOFFSETFROM:+0100
TZOFFSETTO:+0200
TZNAME:CEST
END:DAYLIGHT
END:VTIMEZONE
END:VCALENDAR