BEGIN:VCALENDAR
VERSION:2.0
PRODID:-//wp-events-plugin.com//7.2.3.1//EN
BEGIN:VEVENT
UID:62@christlich-juedische-ge.de
DTSTART;TZID=Europe/Berlin:20250313T180000
DTEND;TZID=Europe/Berlin:20250313T180000
DTSTAMP:20250218T085602Z
URL:https://christlich-juedische-ge.de/events/juedisches-leben-live-erlebe
 n-erew-purim-in-der-synagoge/
SUMMARY:Jüdisches Leben live erleben - Erew Purim in der Synagoge
DESCRIPTION:Jüdisches leben live erleben - Erew Purim in der Synagoge\nPur
 im ist ein freudiges Fest\, das an die Rettung des jüdischen Volkes aus d
 rohender Gefahr in der persischen Diaspora erinnert. Nach dem Buch Ester v
 ersuchte Haman\, der höchste Beamte des persischen Königs\, die gesamten
  Juden im Perserreich zu vernichten\, was Königin Ester jedoch verhindern
  konnte. Im Gottesdienst wird das Buch Ester (Megillat Ester) vollständig
  vorgelesen\, beim Hören des Namens Haman klappert die Gemeinde mit Ratsc
 hen. Purim ist ein Tag\, den Juden mit Essen und Trinken feiern. Jüdische
  Gelehrte sagen: „Jeder muss so viel Wein trinken\, bis er nicht mehr un
 terscheiden kann zwischen ‚Verflucht sei Haman‘ und ‚Gelobt sei Mord
 echai‘“. Gegessen werden Hamantaschen\, dreieckige Gebäckstücke mit 
 Mohn- oder Pflaumenmusfüllung.\n\nKosten: 10\,00 Euro/Anmeldung unter Tel
 .: 0209-70 25 22 20 (auch AB)\, Mail: christlich-\njuedische-ge@freenet.de
 \n\nEine Veranstaltung der Jüdischen Gemeinde Gelsenkirchen und\nder Gese
 llschaft für Christlich-Jüdische Zusammenarbeit Gelsenkirchen e.V.
CATEGORIES:Fest
LOCATION:Neue Synagoge Gelsenkirchen\, Georgstraße 2\, Gelsenkirchen\, 458
 79 \, Deutschland
X-APPLE-STRUCTURED-LOCATION;VALUE=URI;X-ADDRESS=Georgstraße 2\, Gelsenkirc
 hen\, 45879 \, Deutschland;X-APPLE-RADIUS=100;X-TITLE=Neue Synagoge Gelsen
 kirchen:geo:0,0
END:VEVENT
BEGIN:VTIMEZONE
TZID:Europe/Berlin
X-LIC-LOCATION:Europe/Berlin
BEGIN:STANDARD
DTSTART:20241027T020000
TZOFFSETFROM:+0200
TZOFFSETTO:+0100
TZNAME:CET
END:STANDARD
END:VTIMEZONE
END:VCALENDAR