BEGIN:VCALENDAR
VERSION:2.0
PRODID:-//wp-events-plugin.com//7.2.3.1//EN
BEGIN:VEVENT
UID:20@christlich-juedische-ge.de
DTSTART;TZID=Europe/Berlin:20230929T180000
DTEND;TZID=Europe/Berlin:20230929T180000
DTSTAMP:20230907T073713Z
URL:https://christlich-juedische-ge.de/events/juedisches-leben-heute-erew-
 sukkot/
SUMMARY:Jüdisches Leben heute - Erew Sukkot
DESCRIPTION:\nJüdisches Leben heute - Erew Sukkot\n\n\nSukkot\, das Laubh
 üttenfest\, ist als „Fest des Einsammelns“ ein Dankfest für das Einb
 ringen der Ernte\, vor allem der Obst- und Weinernte. Das Fest trägt sein
 en Namen nach den Laubhütten\, in denen fromme Juden eine Woche lang wohn
 en. Sie erinnern sich dabei\, und das ist die zweite Bedeutung des Fests\,
  an die Zeit der Wüstenwanderung\, als ihre Vorfahren keine festen Häuse
 r hatten\, sondern in ihren Zelten ganz auf Gott angewiesen waren.\n\n\n\n
 \nSukkot verweist darauf\, dass der Mensch gerade in Situationen der Unsic
 herheit Gottes Schutz erfährt.\n\n\nVor dem Gottesdienst wird in die Them
 atik von Sukkot eingeführt\, danach gibt es die Möglichkeit zum Zusammen
 kommen bei einem kleinen Imbiss in der Laubhütte\, der Sukka.\n\n\nKosten
 beitrag: 10\,00 Euro\nLeitung:\nJudith Neuwald-Tasbach\,\nVorsitzende der 
 Jüdischen Gemeinde Gelsenkirchen\n\n\n\nEine Veranstaltung der Gesellscha
 ft für Christlich-Jüdische Zusammenarbeit\nGelsenkirchen und der Jüdisc
 hen Gemeinde Gelsenkirchen\n\n\n
LOCATION:Neue Synagoge Gelsenkirchen\, Georgstraße 2\, Gelsenkirchen\, 458
 79 \, Deutschland
X-APPLE-STRUCTURED-LOCATION;VALUE=URI;X-ADDRESS=Georgstraße 2\, Gelsenkirc
 hen\, 45879 \, Deutschland;X-APPLE-RADIUS=100;X-TITLE=Neue Synagoge Gelsen
 kirchen:geo:0,0
END:VEVENT
BEGIN:VTIMEZONE
TZID:Europe/Berlin
X-LIC-LOCATION:Europe/Berlin
BEGIN:DAYLIGHT
DTSTART:20230326T030000
TZOFFSETFROM:+0100
TZOFFSETTO:+0200
TZNAME:CEST
END:DAYLIGHT
END:VTIMEZONE
END:VCALENDAR