BEGIN:VCALENDAR
VERSION:2.0
PRODID:-//wp-events-plugin.com//7.2.3.1//EN
BEGIN:VEVENT
UID:30@christlich-juedische-ge.de
DTSTART;TZID=Europe/Berlin:20240128T160000
DTEND;TZID=Europe/Berlin:20240128T160000
DTSTAMP:20240123T091418Z
URL:https://christlich-juedische-ge.de/events/gedenkveranstaltung-mit-auss
 tellungseroeffnung-einige-waren-nachbarn-taeterschaft-mitlaeufer-und-wider
 stand/
SUMMARY:Gedenkveranstaltung mit Ausstellungseröffnung "Einige waren Nachba
 rn: Täterschaft\, Mitläufer und Widerstand"
DESCRIPTION:Gedenkveranstaltung\nAusstellungseröffnung: "Einige waren Nach
 barn: Täterschaft\, Mitläufer und Widerstand"\nDie Gedenkveranstaltung s
 teht im Zeichen der Erinnerung an die Befreiung von Auschwitz\, an die Mil
 lionen Opfer des Nationalsozialismus sowie an die Deportation Gelsenkirche
 ner Juden am 27. Januar 1942 nach Riga.\n\nIm Rahmen dieser Gedenkveransta
 ltung wird die Ausstellung "Einige waren Nachbarn: Täterschaft\, Mitläuf
 er und Widerstand" des United States Memorial Museums\, die bis zum 6. Mä
 rz 2024 in der Jüdischen Gemeinde Gelsenkirchen zu sehen sein wird\, erö
 ffnet. Die Ausstellung stellt die zentrale Frage: Wie war der Holocaust m
 öglich? Dr. Daniel Schmidt wird in die Ausstellung einführen und dabei i
 nsbesondere auf die Abhängigkeit der Täter von der Zusammenarbeit mit vi
 elen anderen eingehen.\n\nWilfried Harthan erinnert mit seinem Vortrag "Ö
 ffentlich gedemütigt" an die Anprangerung von Elisabeth Markowiak und Jul
 ius Rosenberg 1935 in Gelsenkirchen. Die musikalische Begleitung am Klavie
 r übernimmt Viktoria Sarazinski.\n\nAnmeldung: \nAus sicherheitstechnisch
 en Gründen bitten wir um Anmeldung unter: anfrage@jg-ge.de\n\nEine Kooper
 ationsveranstaltung mit der Jüdischen Gemeinde Gelsenkirchen\, dem Instit
 ut für Stadtgeschichte und dem Verein Neue Synagoge e.V.
CATEGORIES:Gedenken
LOCATION:Neue Synagoge Gelsenkirchen\, Georgstraße 2\, Gelsenkirchen\, 458
 79 \, Deutschland
X-APPLE-STRUCTURED-LOCATION;VALUE=URI;X-ADDRESS=Georgstraße 2\, Gelsenkirc
 hen\, 45879 \, Deutschland;X-APPLE-RADIUS=100;X-TITLE=Neue Synagoge Gelsen
 kirchen:geo:0,0
END:VEVENT
BEGIN:VTIMEZONE
TZID:Europe/Berlin
X-LIC-LOCATION:Europe/Berlin
BEGIN:STANDARD
DTSTART:20231029T020000
TZOFFSETFROM:+0200
TZOFFSETTO:+0100
TZNAME:CET
END:STANDARD
END:VTIMEZONE
END:VCALENDAR