BEGIN:VCALENDAR
VERSION:2.0
PRODID:-//wp-events-plugin.com//7.2.3.1//EN
BEGIN:VEVENT
UID:80@christlich-juedische-ge.de
DTSTART;TZID=Europe/Berlin:20250910T180000
DTEND;TZID=Europe/Berlin:20250910T180000
DTSTAMP:20250821T080400Z
URL:https://christlich-juedische-ge.de/events/buchvorstellung-bonszos-auge
 /
SUMMARY:Buchvorstellung "Bonszos Auge"
DESCRIPTION:Buchvorstellung "Bonzos Auge"\nLeitung:\nDr. Thomas Friedlnder\
 nDr. habil. Thomas Fried­länder wurde 1949 als Kind deutsch-jüdischer E
 migranten\, die nach Deutschland zurückkehrten\, in Ostberlin geboren. Er
  studierte  Afrikanistik und Wirtschaftswissenschaften und war bis zu des
 sen Auflösung 1991 als wissenschaftlicher Mitarbeiter am Institut für In
 ternationale Politik und Wirtschaft der DDR (IPW) tätig\, wo er auch prom
 ovierte und habilitierte. Danach arbeitete er u.a. als Berater der Gesells
 chaft für Technische Zusammenarbeit (GTZ) in Afrika und für verschiedene
  Ministerien vor allem in der Russischen Föderation und der Ukraine.\n\nT
 homas Friedländer findet 1980 seinen Vater Paul nach dessen Suizid tot au
 f. Er beginnt\, sich mit den „weißen Flecken“ seiner deutsch-jüdisch
 en Familiengeschichte auseinanderzusetzen und schreibt ein Buch\, „Bonzo
 s Auge“ (Gransee: Edition Schwarzdruck 2023\, 400 Seiten mit 85 S/W-Abbi
 ldungen\, 27 €).\n\nPaul Friedländer\, genannt Bonzo\, wächst in einem
  Berliner Waisenhaus auf\, verkehrt in linken Kreisen\, entkommt im letzte
 n Moment nach England und wird in Australien interniert. 1947 geht er nach
  Ost-Berlin\, wo der Wirtschaftswissenschaftler und Funktionär mit seiner
  Familie Höhen und Tiefen durchlebt\, schließlich zunehmend erblindet un
 d depressiv wird.\n\nThomas Friedländer befasst sich mit den bedrückende
 n Schicksalen seiner Familie sowie der Suche und dem Auffinden von deren N
 achkommen\, die heute in der ganzen Welt verstreut leben. Damit ist ein in
 teres­santer und sehr persönlicher Bericht der Zeit vor\, nach und um di
 e „Wende“ entstanden.\nDer Eintritt ist frei.\nUm Anmeldung wird gebet
 en unter 0209-70 25 22 20 (auch AB)\noder christlich-juedische-ge@freenet.
 de\n&nbsp\;\n\n&nbsp\;
CATEGORIES:Lesung
LOCATION:Kurt-Neuwald-Saal in der Neuen Synagoge Gelsenkirchen\, Georgstra
 ße 2\, 45879 Gelsenkirchen\, Deutschland
X-APPLE-STRUCTURED-LOCATION;VALUE=URI;X-ADDRESS=Georgstraße 2\, 45879 Gels
 enkirchen\, Deutschland;X-APPLE-RADIUS=100;X-TITLE=Kurt-Neuwald-Saal in de
 r Neuen Synagoge Gelsenkirchen:geo:0,0
END:VEVENT
BEGIN:VTIMEZONE
TZID:Europe/Berlin
X-LIC-LOCATION:Europe/Berlin
BEGIN:DAYLIGHT
DTSTART:20250330T030000
TZOFFSETFROM:+0100
TZOFFSETTO:+0200
TZNAME:CEST
END:DAYLIGHT
END:VTIMEZONE
END:VCALENDAR