BEGIN:VCALENDAR
VERSION:2.0
PRODID:-//wp-events-plugin.com//7.2.3.1//EN
BEGIN:VEVENT
UID:14@christlich-juedische-ge.de
DTSTART;TZID=Europe/Berlin:20230618T080000
DTEND;TZID=Europe/Berlin:20230618T080000
DTSTAMP:20230418T073205Z
URL:https://christlich-juedische-ge.de/events/bruessel-auf-juedischen-spur
 en-tagesexkursion/
SUMMARY:Brüssel auf jüdischen Spuren - Tagesexkursion -
DESCRIPTION:Brüssel auf jüdischen Spuren - eine Tagesexkursion -\nBrüsse
 l ist aus vielen Gründen eine Reise wert. Auch\, weil hier die neben Antw
 erpen größte jüdische Gemeinde Belgiens mit etwa 15.000 Mitgliedern beh
 eimatet ist. Die Exkursion führt zum Jüdischen Museum und zur Grande Syn
 agogue im Sablon-Viertel oder einer anderen Synagoge.\n\nAußerdem ist Zei
 t zur persönlichen Erkundung Brüssels eingeplant. So sind das historisch
 e Zentrum um den Grand Place oder das Sablon-Viertel mit Kunstberg (divers
 e Museen) und Justizpalast vom Jüdischen Museum aus fußläufig zu erreic
 hen.\n\n\n\nLeitung:\n\nUlrich Fehling und Dirk Bültmann\, Vorstandsmitgl
 ieder der Gesellschaft für Christlich-Jüdische Zusammenarbeit Gelsenkirc
 hen e.V.\n\n\n\nAnmeldung bis zum 6. Juni 2023 unter 0209-70 25 22 20 (auc
 h AB) oder per Email: christlich-juedische-ge@freenet.de\n\n\n\nKosten: 50
 \,00 Euro (inkl. 12\,00 Euro Eintritt ins Jüdische Museum Brüssel)
CATEGORIES:Tagesexkursion
LOCATION:Parkplatz Rolandstraße (hinter dem Musiktheater Gelsenkirchen)\, 
 Rolandstraße\, Gelsenkirchen\, NRW\, 45879\, Deutschland
X-APPLE-STRUCTURED-LOCATION;VALUE=URI;X-ADDRESS=Rolandstraße\, Gelsenkirch
 en\, NRW\, 45879\, Deutschland;X-APPLE-RADIUS=100;X-TITLE=Parkplatz Roland
 straße (hinter dem Musiktheater Gelsenkirchen):geo:0,0
END:VEVENT
BEGIN:VTIMEZONE
TZID:Europe/Berlin
X-LIC-LOCATION:Europe/Berlin
BEGIN:DAYLIGHT
DTSTART:20230326T030000
TZOFFSETFROM:+0100
TZOFFSETTO:+0200
TZNAME:CEST
END:DAYLIGHT
END:VTIMEZONE
END:VCALENDAR